BEGIN:VCALENDAR
VERSION:2.0
PRODID:-//Wildflower - ECPv6.15.20//NONSGML v1.0//EN
CALSCALE:GREGORIAN
METHOD:PUBLISH
X-WR-CALNAME:Wildflower
X-ORIGINAL-URL:https://www.wildflowerforkids.org
X-WR-CALDESC:Events for Wildflower
REFRESH-INTERVAL;VALUE=DURATION:PT1H
X-Robots-Tag:noindex
X-PUBLISHED-TTL:PT1H
BEGIN:VTIMEZONE
TZID:America/New_York
BEGIN:DAYLIGHT
TZOFFSETFROM:-0500
TZOFFSETTO:-0400
TZNAME:EDT
DTSTART:20220313T070000
END:DAYLIGHT
BEGIN:STANDARD
TZOFFSETFROM:-0400
TZOFFSETTO:-0500
TZNAME:EST
DTSTART:20221106T060000
END:STANDARD
BEGIN:DAYLIGHT
TZOFFSETFROM:-0500
TZOFFSETTO:-0400
TZNAME:EDT
DTSTART:20230312T070000
END:DAYLIGHT
BEGIN:STANDARD
TZOFFSETFROM:-0400
TZOFFSETTO:-0500
TZNAME:EST
DTSTART:20231105T060000
END:STANDARD
BEGIN:DAYLIGHT
TZOFFSETFROM:-0500
TZOFFSETTO:-0400
TZNAME:EDT
DTSTART:20240310T070000
END:DAYLIGHT
BEGIN:STANDARD
TZOFFSETFROM:-0400
TZOFFSETTO:-0500
TZNAME:EST
DTSTART:20241103T060000
END:STANDARD
BEGIN:DAYLIGHT
TZOFFSETFROM:-0500
TZOFFSETTO:-0400
TZNAME:EDT
DTSTART:20250309T070000
END:DAYLIGHT
BEGIN:STANDARD
TZOFFSETFROM:-0400
TZOFFSETTO:-0500
TZNAME:EST
DTSTART:20251102T060000
END:STANDARD
BEGIN:DAYLIGHT
TZOFFSETFROM:-0500
TZOFFSETTO:-0400
TZNAME:EDT
DTSTART:20260308T070000
END:DAYLIGHT
BEGIN:STANDARD
TZOFFSETFROM:-0400
TZOFFSETTO:-0500
TZNAME:EST
DTSTART:20261101T060000
END:STANDARD
END:VTIMEZONE
BEGIN:VEVENT
DTSTART;VALUE=DATE:20250517
DTEND;VALUE=DATE:20250518
DTSTAMP:20260422T183439
CREATED:20250102T171726Z
LAST-MODIFIED:20250102T172044Z
UID:3402-1747440000-1747526399@www.wildflowerforkids.org
SUMMARY:2025 Rodman Ride for Kids
DESCRIPTION:The 2025 Rodman Ride for Kids will be held on May 17\, 2025! \nThis Spring\, join Team Wildflower on a 25 or 50-mile bike ride\, or Choose-Your-Own-Adventure! Registration opens in mid-January. More information to come\, including details on a new family-friendly element! If you have any questions about participating\, please email Wildflower Communications Coordinator\, Tamara Petrov\, at tpetrov@wildflowerforkids.org.
URL:https://www.wildflowerforkids.org/event/2025-rodman-ride-for-kids/
LOCATION:Foxboro\, MA\, Foxboro\, MA\, United States
CATEGORIES:Rodman Ride for Kids
END:VEVENT
BEGIN:VEVENT
DTSTART;TZID=America/New_York:20250503T180000
DTEND;TZID=America/New_York:20250503T230000
DTSTAMP:20260422T183439
CREATED:20241121T174353Z
LAST-MODIFIED:20250203T152924Z
UID:3375-1746295200-1746313200@www.wildflowerforkids.org
SUMMARY:20th Anniversary Gala
DESCRIPTION:Celebrate. Connect. Continue!\nJoin us at this lively festivity to commemorate Wildflower’s 20th Anniversary and celebrate Cyndi Jones’s incredible tenure as Founder and Board Chair.\nClick HERE for information regarding tickets\, sponsorships\, and more!
URL:https://www.wildflowerforkids.org/event/20th-anniversary-gala/
LOCATION:Belmont Country Club\, 181 Winter Street\, Belmont\, MA\, 02478\, United States
ORGANIZER;CN="Wildflower":MAILTO:tpetrov@wildflowerforkids.org
END:VEVENT
BEGIN:VEVENT
DTSTART;TZID=America/New_York:20240921T070000
DTEND;TZID=America/New_York:20240921T160000
DTSTAMP:20260422T183439
CREATED:20240819T162209Z
LAST-MODIFIED:20240826T184152Z
UID:3308-1726902000-1726934400@www.wildflowerforkids.org
SUMMARY:2024 Rodman Ride for Kids
DESCRIPTION:The Rodman Ride for Kids is Wildflower’s largest annual fundraiser! With loads of ways to participate\, including virtual options\, no bike is no excuse! \nClick the title of this event to see full event details.
URL:https://www.wildflowerforkids.org/event/3308/
LOCATION:Foxboro\, MA\, Foxboro\, MA\, United States
END:VEVENT
BEGIN:VEVENT
DTSTART;TZID=America/New_York:20240509T190000
DTEND;TZID=America/New_York:20240509T210000
DTSTAMP:20260422T183439
CREATED:20240402T134133Z
LAST-MODIFIED:20240402T134611Z
UID:3248-1715281200-1715288400@www.wildflowerforkids.org
SUMMARY:A Concert with Livingston Taylor
DESCRIPTION:See full event details here>> \nWildflower’s Spring Benefit is a much loved annual event. We anticipate another sold-out show featuring beloved Livingston Taylor.
URL:https://www.wildflowerforkids.org/event/a-concert-with-livingston-taylor/
LOCATION:Natick Center for the Arts\, 14 Summer Street\, Natick\, MA\, 01760\, United States
CATEGORIES:Cultivation Events
ATTACH;FMTTYPE=image/jpeg:https://www.wildflowerforkids.org/wp-content/uploads/2024/03/livingston-taylor-smaller.jpg
END:VEVENT
BEGIN:VEVENT
DTSTART;TZID=America/New_York:20230923T070000
DTEND;TZID=America/New_York:20230923T160000
DTSTAMP:20260422T183439
CREATED:20230801T150126Z
LAST-MODIFIED:20230801T174137Z
UID:3103-1695452400-1695484800@www.wildflowerforkids.org
SUMMARY:2023 Rodman Ride for Kids
DESCRIPTION:Team Wildflower rides again at the Rodman Ride for Kids on Saturday\, September 23. Join our team TODAY! \nDo you have a passion for bike riding? Or are long neighborhood walks more your style? Well\, either one is a perfect fit for Team Wildflower! Join our team NOW for the 2023 Rodman Ride for Kids to help raise money for Wildflower and support our grieving children and families. \nParticipants may choose between riding in-person on 9/23 in Foxboro or choose-your-own adventure . In years past\, our adventurers have ran\, walked\, hiked\, swam\, and even knitted! All that matters is that you’re doing something that you enjoy doing while spreading awareness for Wildflower. The more participants we can get\, the bigger impact we make on the lives of our kids. \nWildflower has been a proud Rodman Charity Partner since 2011. Because Rodman underwrites all expenses related to the Ride\, every dollar we raise goes directly to our kids and families. \nTo register for Team Wildflower and learn more about the Ride\, click here. \nHave questions about the Ride that you want answered before registering? Contact Wednesday Walton today. \nTo donate to a Wildflower participant\, click here. \nFind the Rodman Ride for Kids website here.
URL:https://www.wildflowerforkids.org/event/2023-rodman-ride-for-kids/
LOCATION:Foxboro\, MA\, Foxboro\, MA\, United States
CATEGORIES:Rodman Ride for Kids
END:VEVENT
END:VCALENDAR