BEGIN:VCALENDAR
VERSION:2.0
PRODID:-//Wildflower - ECPv6.15.20//NONSGML v1.0//EN
CALSCALE:GREGORIAN
METHOD:PUBLISH
X-WR-CALNAME:Wildflower
X-ORIGINAL-URL:https://www.wildflowerforkids.org
X-WR-CALDESC:Events for Wildflower
REFRESH-INTERVAL;VALUE=DURATION:PT1H
X-Robots-Tag:noindex
X-PUBLISHED-TTL:PT1H
BEGIN:VTIMEZONE
TZID:America/New_York
BEGIN:DAYLIGHT
TZOFFSETFROM:-0500
TZOFFSETTO:-0400
TZNAME:EDT
DTSTART:20240310T070000
END:DAYLIGHT
BEGIN:STANDARD
TZOFFSETFROM:-0400
TZOFFSETTO:-0500
TZNAME:EST
DTSTART:20241103T060000
END:STANDARD
BEGIN:DAYLIGHT
TZOFFSETFROM:-0500
TZOFFSETTO:-0400
TZNAME:EDT
DTSTART:20250309T070000
END:DAYLIGHT
BEGIN:STANDARD
TZOFFSETFROM:-0400
TZOFFSETTO:-0500
TZNAME:EST
DTSTART:20251102T060000
END:STANDARD
BEGIN:DAYLIGHT
TZOFFSETFROM:-0500
TZOFFSETTO:-0400
TZNAME:EDT
DTSTART:20260308T070000
END:DAYLIGHT
BEGIN:STANDARD
TZOFFSETFROM:-0400
TZOFFSETTO:-0500
TZNAME:EST
DTSTART:20261101T060000
END:STANDARD
BEGIN:DAYLIGHT
TZOFFSETFROM:-0500
TZOFFSETTO:-0400
TZNAME:EDT
DTSTART:20270314T070000
END:DAYLIGHT
BEGIN:STANDARD
TZOFFSETFROM:-0400
TZOFFSETTO:-0500
TZNAME:EST
DTSTART:20271107T060000
END:STANDARD
END:VTIMEZONE
BEGIN:VEVENT
DTSTART;TZID=America/New_York:20250503T180000
DTEND;TZID=America/New_York:20250503T230000
DTSTAMP:20260422T184434
CREATED:20241121T174353Z
LAST-MODIFIED:20250203T152924Z
UID:3375-1746295200-1746313200@www.wildflowerforkids.org
SUMMARY:20th Anniversary Gala
DESCRIPTION:Celebrate. Connect. Continue!\nJoin us at this lively festivity to commemorate Wildflower’s 20th Anniversary and celebrate Cyndi Jones’s incredible tenure as Founder and Board Chair.\nClick HERE for information regarding tickets\, sponsorships\, and more!
URL:https://www.wildflowerforkids.org/event/20th-anniversary-gala/
LOCATION:Belmont Country Club\, 181 Winter Street\, Belmont\, MA\, 02478\, United States
ORGANIZER;CN="Wildflower":MAILTO:tpetrov@wildflowerforkids.org
END:VEVENT
BEGIN:VEVENT
DTSTART;VALUE=DATE:20250517
DTEND;VALUE=DATE:20250518
DTSTAMP:20260422T184434
CREATED:20250102T171726Z
LAST-MODIFIED:20250102T172044Z
UID:3402-1747440000-1747526399@www.wildflowerforkids.org
SUMMARY:2025 Rodman Ride for Kids
DESCRIPTION:The 2025 Rodman Ride for Kids will be held on May 17\, 2025! \nThis Spring\, join Team Wildflower on a 25 or 50-mile bike ride\, or Choose-Your-Own-Adventure! Registration opens in mid-January. More information to come\, including details on a new family-friendly element! If you have any questions about participating\, please email Wildflower Communications Coordinator\, Tamara Petrov\, at tpetrov@wildflowerforkids.org.
URL:https://www.wildflowerforkids.org/event/2025-rodman-ride-for-kids/
LOCATION:Foxboro\, MA\, Foxboro\, MA\, United States
CATEGORIES:Rodman Ride for Kids
END:VEVENT
BEGIN:VEVENT
DTSTART;TZID=America/New_York:20260410T080000
DTEND;TZID=America/New_York:20260410T170000
DTSTAMP:20260422T184434
CREATED:20260410T175313Z
LAST-MODIFIED:20260410T175313Z
UID:3953-1775808000-1775840400@www.wildflowerforkids.org
SUMMARY:2026 Rodman Ride for Kids
DESCRIPTION:The 2026 Rodman Ride for Kids will be held on Saturday May 16\, 2026! \nFor the second time in the spring\, join Wildflower on a 25 or 50-mile bike ride\, or join as a Virtual Participant and “ride” any way you’d like! This year\, the Ride for Kids Jr. has evolved to be even more fun and inclusive! This is our largest annual fundraiser – and thanks to our partners at Rodman\, 100% of the funds raised by our team will go directly towards wraparound programs for the bereaved families we serve.  \nRegister or donate here!  \n\n\n\n\n\n\n25 Mile Riders\n\n\n\n\n\nCheck in opens: 7:45AM\nRide start: 10:15AM\nRoute closes: 3PM\n\n\n\n\n\n\n\n50 Mile Riders\n\n\n\n\n\nCheck in opens: 7:45AM\nRide start: 9AM\nRoute closes: 3PM\n\n\n\n\n\n\n\n\n\n\n\n\n\nTiny Obstacle Rides – Training Wheel & No Training Wheel Options\n\n\n\n\n\nCheck in opens: 11:30AM\nTraining Wheel Ride start: 1PM\nNo Training Wheel Ride start: 1:30PM\nTraining Wheel Course closes: 2PM\nNo Training Wheel Course closes: 2:30PM\n\n\n\n\n\n\n\nMini Ride – No Training Wheels Allowed\n\n\n\n\n\nCheck in opens: 11:30AM\nRide start: 12:30PM\nRoute closes: 1:30PM
URL:https://www.wildflowerforkids.org/event/2026-rodman-ride-for-kids/
LOCATION:Rodman Ride for Kids\, 38 Neponset Ave\, Foxboro\, MA\, 02035\, United States
CATEGORIES:Rodman Ride for Kids
ATTACH;FMTTYPE=image/jpeg:https://www.wildflowerforkids.org/wp-content/uploads/2026/04/250517-kataram-454-scaled.jpg
END:VEVENT
END:VCALENDAR